BEGIN:VCALENDAR
VERSION:2.0
PRODID:-//Trackage Scheme - ECPv4.3.3//NONSGML v1.0//EN
CALSCALE:GREGORIAN
METHOD:PUBLISH
X-WR-CALNAME:Trackage Scheme
X-ORIGINAL-URL:https://shop.trackagescheme.com
X-WR-CALDESC:Events for Trackage Scheme
BEGIN:VEVENT
DTSTART;TZID=Europe/Malta:20240420T210000
DTEND;TZID=Europe/Malta:20240420T230000
DTSTAMP:20260419T155558
CREATED:20240319T163934Z
LAST-MODIFIED:20240403T174546Z
UID:162169-1713646800-1713654000@shop.trackagescheme.com
SUMMARY:The Velts + Ça Roule – Live at Storeroom
DESCRIPTION:The Velts are a local post-punk\, psychedelic pop band. They released their debut studio album 'Alphabet' in 2018\, which includes an eclectic mix of tracks showcasing the band's genre-bending capabilities\, seamlessly transitioning from raucous post-punk anthems to sprawling\, psychedelic sounds. In 2022\, the band continued their sonic explorations by releasing their EP 'Past Tense'. This collection further pushed the boundaries of their sound\, blending their characteristic post-punk energy with an added layer of introspection.\nCatch them live on the 20th of April supported by Ça Roule who will deliver a dashing electronic DJ set afterwards.\n–\nAdmission: €10\nDate: Saturday 20th April\nTime: 9 PM
URL:https://shop.trackagescheme.com/event/velts-ca-roule-live-storeroom/
LOCATION:7\, Ta' Xbiex Seafront \, Ta' Xbiex\, XBX1027\, Malta
ATTACH;FMTTYPE=image/jpeg:https://shop.trackagescheme.com/wp-content/uploads/2024/03/04-20th_-_THE-VELTS.jpg
ORGANIZER;CN="Storeroom%20Malta":MAILTO:info@storeroomalta.com
END:VEVENT
END:VCALENDAR