BEGIN:VCALENDAR
VERSION:2.0
PRODID:-//Trackage Scheme - ECPv4.3.3//NONSGML v1.0//EN
CALSCALE:GREGORIAN
METHOD:PUBLISH
X-WR-CALNAME:Trackage Scheme
X-ORIGINAL-URL:https://shop.trackagescheme.com
X-WR-CALDESC:Events for Trackage Scheme
BEGIN:VEVENT
DTSTART;TZID=Europe/Malta:20231227T223000
DTEND;TZID=Europe/Malta:20231228T040000
DTSTAMP:20260423T030927
CREATED:20231126T152742Z
LAST-MODIFIED:20241108T190013Z
UID:153327-1703716200-1703736000@shop.trackagescheme.com
SUMMARY:Pudina Tal-Milied 2023
DESCRIPTION:Lineup\n\nJoon (live)\nHearts beating in time (live)\nRAIM (live)\nSonitus Eco\nDanjeli
URL:https://shop.trackagescheme.com/event/pudina-tal-milied-2023/
LOCATION:Triq Tal-Balal\, San Gwann\, Malta
ATTACH;FMTTYPE=image/png:https://shop.trackagescheme.com/wp-content/uploads/2023/11/403611491_722000083310704_8223374612476293463_n.png
ORGANIZER;CN="Danjeli":MAILTO:danjelischembri@gmail.com
END:VEVENT
END:VCALENDAR