BEGIN:VCALENDAR
VERSION:2.0
PRODID:-//Trackage Scheme - ECPv4.3.3//NONSGML v1.0//EN
CALSCALE:GREGORIAN
METHOD:PUBLISH
X-WR-CALNAME:Trackage Scheme
X-ORIGINAL-URL:https://shop.trackagescheme.com
X-WR-CALDESC:Events for Trackage Scheme
BEGIN:VEVENT
DTSTART;TZID=Europe/Malta:20241019T190000
DTEND;TZID=Europe/Malta:20241019T235500
DTSTAMP:20260424T021656
CREATED:20240910T155536Z
LAST-MODIFIED:20241019T094708Z
UID:171166-1729364400-1729382100@shop.trackagescheme.com
SUMMARY:Eyes to Argus – Reroot // Album Launch Show
DESCRIPTION:Reroot\, the third album by Eyes to Argus\, came out in July while the band was away on a US mini-tour. Now with the boys back home\, vinyls in hand\, and a date locked in\, it’s finally time to celebrate Reroot with an album release show\, where Eyes to Argus will perform the album in full alongside a few other familiar songs from the band’s catalogue.\n\nWe’ll be joined on the night by our friends – electronic artist Naqara\, David Schembri who will be accompanied by his band for the first time\, and Steve Meli on the decks.\n\nPlease note that due to the high probability of thunderstorms on the day\, the event has been moved to The British Legion in Valletta.\n\n—\n\nDoors: 19.00\n\nTickets: €15\nTicket + Reroot vinyl bundle: €30\n\nIf you’ve already purchased a Reroot vinyl (or plan to buy one ahead of the event) and want to come to the launch concert\, please get in touch with the band directly. We’ll give you an exclusive discount code for your ticket.\n\n—\nPoster by Samwel Mallia.
URL:https://shop.trackagescheme.com/event/eyes-argus-reroot-album-launch-show/
LOCATION:Valletta\, Valletta\, Malta
ATTACH;FMTTYPE=image/jpeg:https://shop.trackagescheme.com/wp-content/uploads/2024/09/EVENT-BANNER-min.jpg
ORGANIZER;CN="Eyes%20to%20Argus":MAILTO:eyestoargus@gmail.com
END:VEVENT
END:VCALENDAR